BEGIN:VCALENDAR
VERSION:2.0
PRODID:-//wp-events-plugin.com//7.2.3//EN
TZID:Europe/Skopje
X-WR-TIMEZONE:Europe/Skopje
BEGIN:VEVENT
UID:21@eac.org.mk
DTSTART;TZID=Europe/Skopje:20251018T120000
DTEND;TZID=Europe/Skopje:20251018T200000
DTSTAMP:20251002T201959Z
URL:https://eac.org.mk/events/study-abroad-scholarship-expo-2025/
SUMMARY:Study Abroad - Scholarship Expo 2025
DESCRIPTION:Study Abroad - Scholarship Expo 2025 \n- 25th  Anniversary -\n
 \n&nbsp\;\n\nJoin us on 18 October 2025 at the Hotel Holiday Inn\, Skopje 
 for the most prestigious international education event in Macedonia – th
 e Study Abroad Expo\, proudly organized by EAC.\n\nThis year marks a speci
 al milestone as we celebrate 25 years of guiding students toward their aca
 demic and professional dreams abroad. For a quarter of a century\, EAC has
  been a trusted partner for students and parents\, connecting them with un
 iversities\, scholarships\, and opportunities worldwide.\n\nWhy Attend?\n\
 nAt the Study Abroad Expo 2025\, you will have the unique opportunity to:\
 n\n 	Meet and interact directly with representatives from 20+ universities
  across the globe\, all of them EAC Partner Universities\n 	On the EAC des
 k\, you can get detailed information about all other Partner Universities 
 that are not present at the event (more than 100 Universities)\n 	Gain per
 sonalized advice through one-on-one consultations with universities and al
 umni students\n 	Attend on panel discussion on future careers\n 	Discover 
 a wide range of Bachelor’s and Master’s programs\n 	Learn about schola
 rships and financial support options\n\nFind the full agenda here.\n\nInte
 rnational Sponsors\n\nThis special anniversary edition proudly welcomes ou
 r international sponsors :\n\n 	Algebra Bernays University\n 	American Col
 lege of Thessaloniki\n 	American University in Bulgaria\n 	BSB Burgundy Sc
 hool of Management\n 	Constructor University Bremen\n 	EKA University of A
 pplied Sciences\n 	EU Business School\n 	GEDU\n 	IULM University\n 	Kaplan
  International Pathways\n 	MUDT Munich University of Digital Technology\n 
 	Perrotis College\n 	Universita Cattolica del Sacro Cuore\n 	Universita De
 gli Studi di Padova\n 	University of Dubrovnik\n\nAlongside our sponsors\,
  we are pleased to welcome our participating partners:\n\n 	 SPD Scuola P
 olitehnica di Milano\n 	 Modul University\n 	WEBSTER Leiden Campus\n 	Aus
 tralian Migration Office Skopje\n 	Fresenius University of Applied Science
 s\n 	SRH University\n 	Embassy of Italy Skopje\n 	Embassy of France Skopje
 \n\nWho Should Attend?\n\nThe Expo is open to students\, parents\, and edu
 cators seeking to explore international study options. Whether you’re pl
 anning for undergraduate\, graduate\, or specialized programs\, the Expo p
 rovides a comprehensive overview of opportunities abroad.\n\nRegistration\
 n\nEntrance is free of charge\, but registration is mandatory. Secure your
  place today and take the first step toward your future abroad.\n\nFollow 
 us on Instagram and Facebook for updates and announcements!
ATTACH;FMTTYPE=image/jpeg:https://eac.org.mk/wp-content/uploads/2025/08/ea
 c-study-abroad-scholarship-expo.jpg
LOCATION:Holiday Inn\, Skopje\, Filip Vtori Makedonski 5\, Skopje\, 1000\, 
 Macedonia
X-APPLE-STRUCTURED-LOCATION;VALUE=URI;X-ADDRESS=Filip Vtori Makedonski 5\, 
 Skopje\, 1000\, Macedonia;X-APPLE-RADIUS=100;X-TITLE=Holiday Inn\, Skopje:
 geo:0,0
END:VEVENT
BEGIN:VTIMEZONE
TZID:Europe/Skopje
X-LIC-LOCATION:Europe/Skopje
BEGIN:DAYLIGHT
DTSTART:20250330T030000
TZOFFSETFROM:+0100
TZOFFSETTO:+0200
TZNAME:CEST
END:DAYLIGHT
END:VTIMEZONE
END:VCALENDAR