BEGIN:VCALENDAR
VERSION:2.0
PRODID:-//wp-events-plugin.com//7.2.3//EN
TZID:Europe/Skopje
X-WR-TIMEZONE:Europe/Skopje
BEGIN:VEVENT
UID:29@eac.org.mk
DTSTART;TZID=Europe/Skopje:20260324T183000
DTEND;TZID=Europe/Skopje:20260324T193000
DTSTAMP:20260311T135218Z
URL:https://eac.org.mk/events/webinar-study-in-croatia/
SUMMARY:Webinar: Study in Croatia
DESCRIPTION:Whether you're still exploring your options or ready to take th
 e next step\, this webinar is made for you. We created this space for upco
 ming and current students who want to discover what it's really like to st
 udy in Croatia — and why the University of Dubrovnik might just be the p
 erfect fit.\nAbout the University of Dubrovnik (UNIDU)\nThe University of 
 Dubrovnik is a public university nestled in Croatia's most iconic coastal 
 city. Established in 2003\, it is one of the most internationally engaged 
 universities in Croatia\, offering 30+ programs across a wide range of fie
 lds in both English and Croatian\, with a modern on-campus dormitory\, aff
 ordable student life\, and a UNESCO-listed Old Town right at your doorstep
 .\n\nWhat you'll learn:\nDuring this webinar\, you'll get a full overview 
 of everything you need to know to start your journey at UNIDU. Our present
 ers will walk you through\n\n 	 The available programs and study options\
 n 	Get a step-by-step breakdown of the application process\, including how
  you can potentially study for free.\n 	Discover what on-campus accommodat
 ion looks like and what daily student life in Dubrovnik actually feels lik
 e.\n 	Hear a first-hand experience from a current undergraduate student. F
 rom the moment she applied\, to living and studying in one of Europe's mos
 t beautiful cities.\n\nPresenters:\n\n 	Nikolina Potrebica – Head of the
  International Recruitment Office\n 	Vesna Stankovik – Associate at the 
 International Recruitment Office\n 	Kornelija Josifova – Current Underg
 raduate Student\n 	Maja Petrusheva – Advisor at EAC Skopje\n\nHow to joi
 n:\nRegister using the form below. You will receive an email with a link t
 o join the webinar one day before the event.\n👇 Secure your spot – re
 gister now!\nMake sure to follow us on Instagram and Facebook for upc
 oming events and offers.
ATTACH;FMTTYPE=image/jpeg:https://eac.org.mk/wp-content/uploads/2026/03/st
 udy_in_croatia.jpg
LOCATION:https://us06web.zoom.us/j/82789326168?pwd=GBStGbM4zwMyXzac7cxSEcOk
 DrWWNL.1
END:VEVENT
BEGIN:VTIMEZONE
TZID:Europe/Skopje
X-LIC-LOCATION:Europe/Skopje
BEGIN:STANDARD
DTSTART:20251026T020000
TZOFFSETFROM:+0200
TZOFFSETTO:+0100
TZNAME:CET
END:STANDARD
END:VTIMEZONE
END:VCALENDAR